BEGIN:VCALENDAR
VERSION:2.0
PRODID:-//WendLandPartie - ECPv6.15.20//NONSGML v1.0//EN
CALSCALE:GREGORIAN
METHOD:PUBLISH
X-ORIGINAL-URL:https://wendlandpartie.de
X-WR-CALDESC:Veranstaltungen für WendLandPartie
REFRESH-INTERVAL;VALUE=DURATION:PT1H
X-Robots-Tag:noindex
X-PUBLISHED-TTL:PT1H
BEGIN:VTIMEZONE
TZID:Europe/Berlin
BEGIN:DAYLIGHT
TZOFFSETFROM:+0100
TZOFFSETTO:+0200
TZNAME:CEST
DTSTART:20250330T010000
END:DAYLIGHT
BEGIN:STANDARD
TZOFFSETFROM:+0200
TZOFFSETTO:+0100
TZNAME:CET
DTSTART:20251026T010000
END:STANDARD
BEGIN:DAYLIGHT
TZOFFSETFROM:+0100
TZOFFSETTO:+0200
TZNAME:CEST
DTSTART:20260329T010000
END:DAYLIGHT
BEGIN:STANDARD
TZOFFSETFROM:+0200
TZOFFSETTO:+0100
TZNAME:CET
DTSTART:20261025T010000
END:STANDARD
BEGIN:DAYLIGHT
TZOFFSETFROM:+0100
TZOFFSETTO:+0200
TZNAME:CEST
DTSTART:20270328T010000
END:DAYLIGHT
BEGIN:STANDARD
TZOFFSETFROM:+0200
TZOFFSETTO:+0100
TZNAME:CET
DTSTART:20271031T010000
END:STANDARD
END:VTIMEZONE
BEGIN:VEVENT
DTSTART;TZID=Europe/Berlin:20260513T180000
DTEND;TZID=Europe/Berlin:20260513T220000
DTSTAMP:20260424T131415
CREATED:20260413T103611Z
LAST-MODIFIED:20260413T103611Z
UID:10001358-1778695200-1778709600@wendlandpartie.de
SUMMARY:Abend-Ausstellung plus Tresen & Küche geöffnet
DESCRIPTION:
URL:https://wendlandpartie.de/veranstaltung/abend-ausstellung-plus-tresen-kueche-geoeffnet/
LOCATION:Kussebode Kulturbrauerei – Wendlandbräu\, Kussebode 10\, Clenze\, 29459\, Deutschland
CATEGORIES:Ausstellung,Essen & Trinken
ATTACH;FMTTYPE=image/jpeg:https://wendlandpartie.de/wp-content/uploads/2024/02/abendausstellung-scaled.jpeg
GEO:52.9217126;10.9979053
X-APPLE-STRUCTURED-LOCATION;VALUE=URI;X-ADDRESS=Kussebode Kulturbrauerei – Wendlandbräu Kussebode 10 Clenze 29459 Deutschland;X-APPLE-RADIUS=500;X-TITLE=Kussebode 10:geo:10.9979053,52.9217126
END:VEVENT
BEGIN:VEVENT
DTSTART;VALUE=DATE:20260514
DTEND;VALUE=DATE:20260527
DTSTAMP:20260424T131415
CREATED:20260413T103750Z
LAST-MODIFIED:20260413T103750Z
UID:10001360-1778724000-1779760799@wendlandpartie.de
SUMMARY:Simone Berner-Ehlers - Leder & mehr
DESCRIPTION:Leder & mehr
URL:https://wendlandpartie.de/veranstaltung/simone-berner-ehlers-leder-mehr/
LOCATION:Kussebode Kulturbrauerei – Wendlandbräu\, Kussebode 10\, Clenze\, 29459\, Deutschland
CATEGORIES:Ausstellung
ATTACH;FMTTYPE=image/webp:https://wendlandpartie.de/wp-content/uploads/2022/04/Simone-Berner-Ehlers-Leder-mehr-e1649356673657.webp
GEO:52.9217126;10.9979053
X-APPLE-STRUCTURED-LOCATION;VALUE=URI;X-ADDRESS=Kussebode Kulturbrauerei – Wendlandbräu Kussebode 10 Clenze 29459 Deutschland;X-APPLE-RADIUS=500;X-TITLE=Kussebode 10:geo:10.9979053,52.9217126
END:VEVENT
BEGIN:VEVENT
DTSTART;VALUE=DATE:20260514
DTEND;VALUE=DATE:20260527
DTSTAMP:20260424T131415
CREATED:20260413T103711Z
LAST-MODIFIED:20260413T103711Z
UID:10001359-1778724000-1779760799@wendlandpartie.de
SUMMARY:Christiane Ahrens - unikative Nähereien
DESCRIPTION:unikative Nähereien \nFarben und Muster treffen aufeinander\,streiten\, schmeicheln\,konkurrieren\, finden sich.
URL:https://wendlandpartie.de/veranstaltung/christiane-ahrens-unikative-naehereien/
LOCATION:Kussebode Kulturbrauerei – Wendlandbräu\, Kussebode 10\, Clenze\, 29459\, Deutschland
CATEGORIES:Ausstellung
ATTACH;FMTTYPE=image/jpeg:https://wendlandpartie.de/wp-content/uploads/2022/04/Tiane20-scaled-e1652435892914.jpg
GEO:52.9217126;10.9979053
X-APPLE-STRUCTURED-LOCATION;VALUE=URI;X-ADDRESS=Kussebode Kulturbrauerei – Wendlandbräu Kussebode 10 Clenze 29459 Deutschland;X-APPLE-RADIUS=500;X-TITLE=Kussebode 10:geo:10.9979053,52.9217126
END:VEVENT
BEGIN:VEVENT
DTSTART;VALUE=DATE:20260514
DTEND;VALUE=DATE:20260527
DTSTAMP:20260424T131415
CREATED:20260413T103843Z
LAST-MODIFIED:20260413T103843Z
UID:10001361-1778724000-1779760799@wendlandpartie.de
SUMMARY:Stefan Junge – Schmuck aus Kokos\, Holz & Makramee
DESCRIPTION:https://www.instagram.com/stefanjunge_schmuck/
URL:https://wendlandpartie.de/veranstaltung/stefan-junge-schmuck-aus-kokos-holz-makramee-26/
LOCATION:Kussebode Kulturbrauerei – Wendlandbräu\, Kussebode 10\, Clenze\, 29459\, Deutschland
CATEGORIES:Ausstellung
ATTACH;FMTTYPE=image/jpeg:https://wendlandpartie.de/wp-content/uploads/2025/03/stefanjunge_schmuck.jpg
GEO:52.9217126;10.9979053
X-APPLE-STRUCTURED-LOCATION;VALUE=URI;X-ADDRESS=Kussebode Kulturbrauerei – Wendlandbräu Kussebode 10 Clenze 29459 Deutschland;X-APPLE-RADIUS=500;X-TITLE=Kussebode 10:geo:10.9979053,52.9217126
END:VEVENT
BEGIN:VEVENT
DTSTART;VALUE=DATE:20260514
DTEND;VALUE=DATE:20260527
DTSTAMP:20260424T131415
CREATED:20260413T103925Z
LAST-MODIFIED:20260413T103925Z
UID:10001362-1778724000-1779760799@wendlandpartie.de
SUMMARY:Bernd Kamer - Fotoausstellung: Die Stadt ohne Mond
DESCRIPTION:http://www.berndkamer.de/
URL:https://wendlandpartie.de/veranstaltung/bernd-kamer-fotoausstellung-die-stadt-ohne-mond-26/
LOCATION:Kussebode Kulturbrauerei – Wendlandbräu\, Kussebode 10\, Clenze\, 29459\, Deutschland
CATEGORIES:Ausstellung
ATTACH;FMTTYPE=image/jpeg:https://wendlandpartie.de/wp-content/uploads/2025/03/bernd-kamer.jpg
GEO:52.9217126;10.9979053
X-APPLE-STRUCTURED-LOCATION;VALUE=URI;X-ADDRESS=Kussebode Kulturbrauerei – Wendlandbräu Kussebode 10 Clenze 29459 Deutschland;X-APPLE-RADIUS=500;X-TITLE=Kussebode 10:geo:10.9979053,52.9217126
END:VEVENT
BEGIN:VEVENT
DTSTART;VALUE=DATE:20260514
DTEND;VALUE=DATE:20260527
DTSTAMP:20260424T131415
CREATED:20260413T104007Z
LAST-MODIFIED:20260413T104007Z
UID:10001363-1778724000-1779760799@wendlandpartie.de
SUMMARY:Astrid Voß - EigenArt Schmuck
DESCRIPTION:EigenArt Schmuck\nSeit 23 Jahren betreibe ich in Faßberg in der Südheide meine Werkstatt für Goldschmiedearbeiten und Schmuckdesign. \nDazu verwende ich hochwertige Materialien wie edle Farbsteine ​​aus aller Welt in seltenen Farben und Schliffen\, Perlen in raren Formen und Naturtönen\, wie auch Hölzer\, Wurzeln\, Fundstücke\, Pferdehaar und Nerz. Diese komponiere ich sorgfältig mit viel Zeit\, Silber\, Feinsilber\, Feingold und manchmal auch Kupfer zu einzigartigen\, schon fast personalisierten Schmuck-Einzelstücken. \nSelbstverständlich fertige ich Schmuck auch nach Ihren Wünschen und Entwürfen an. Die Auswahl der Edelmetalle\, auch von Zwischenteilen und Schließen und deren Formen können Sie ganz nach Ihren persönlichen Wünschen treffen. Sprechen Sie mich an. Ich freue mich für darauf\, für Sie zu arbeiten. \nwww.schmuck-eigenart.de
URL:https://wendlandpartie.de/veranstaltung/astrid-voss-eigenart-schmuck-26/
LOCATION:Kussebode Kulturbrauerei – Wendlandbräu\, Kussebode 10\, Clenze\, 29459\, Deutschland
CATEGORIES:Ausstellung
ATTACH;FMTTYPE=image/jpeg:https://wendlandpartie.de/wp-content/uploads/2022/04/Astrid-Voss-e1649360438826.jpeg
GEO:52.9217126;10.9979053
X-APPLE-STRUCTURED-LOCATION;VALUE=URI;X-ADDRESS=Kussebode Kulturbrauerei – Wendlandbräu Kussebode 10 Clenze 29459 Deutschland;X-APPLE-RADIUS=500;X-TITLE=Kussebode 10:geo:10.9979053,52.9217126
END:VEVENT
END:VCALENDAR